BEGIN:VCALENDAR
VERSION:2.0
PRODID:-//Transforming FSL - ECPv5.16.4//NONSGML v1.0//EN
CALSCALE:GREGORIAN
METHOD:PUBLISH
X-WR-CALNAME:Transforming FSL
X-ORIGINAL-URL:https://transformingfsl.ca
X-WR-CALDESC:Events for Transforming FSL
BEGIN:VTIMEZONE
TZID:America/Toronto
BEGIN:DAYLIGHT
TZOFFSETFROM:-0500
TZOFFSETTO:-0400
TZNAME:EDT
DTSTART:20190310T070000
END:DAYLIGHT
BEGIN:STANDARD
TZOFFSETFROM:-0400
TZOFFSETTO:-0500
TZNAME:EST
DTSTART:20191103T060000
END:STANDARD
END:VTIMEZONE
BEGIN:VEVENT
DTSTART;VALUE=DATE:20190320
DTEND;VALUE=DATE:20190321
DTSTAMP:20260420T063823
CREATED:20190829T190120Z
LAST-MODIFIED:20190905T145146Z
UID:3213-1553040000-1553126399@transformingfsl.ca
SUMMARY:Grammaire en Action – Session 1
DESCRIPTION:This webinar provided participants an opportunity to understand the differences between learning grammar in a first language and learning it in a second language. They also considered the impact of teaching and assessing grammar in an action-oriented approach.
URL:https://transformingfsl.ca/en/event/grammaire-en-action-session-1/
CATEGORIES:Grammar
ATTACH;FMTTYPE=image/jpeg:https://transformingfsl.ca/wp-content/uploads/2019/09/g-en-a-feature.jpg
END:VEVENT
END:VCALENDAR