BEGIN:VCALENDAR
VERSION:2.0
PRODID:-//Transforming FSL - ECPv5.16.4//NONSGML v1.0//EN
CALSCALE:GREGORIAN
METHOD:PUBLISH
X-WR-CALNAME:Transforming FSL
X-ORIGINAL-URL:https://transformingfsl.ca
X-WR-CALDESC:Events for Transforming FSL
BEGIN:VTIMEZONE
TZID:America/Toronto
BEGIN:DAYLIGHT
TZOFFSETFROM:-0500
TZOFFSETTO:-0400
TZNAME:EDT
DTSTART:20250309T070000
END:DAYLIGHT
BEGIN:STANDARD
TZOFFSETFROM:-0400
TZOFFSETTO:-0500
TZNAME:EST
DTSTART:20251102T060000
END:STANDARD
END:VTIMEZONE
BEGIN:VEVENT
DTSTART;TZID=America/Toronto:20250513T160000
DTEND;TZID=America/Toronto:20250513T180000
DTSTAMP:20260419T114904
CREATED:20250603T193627Z
LAST-MODIFIED:20250604T170958Z
UID:4592-1747152000-1747159200@transformingfsl.ca
SUMMARY:FSL Virtual Learning Series 2025: Assessment and Evaluation in French Programs
DESCRIPTION:This workshop explores effective assessment and evaluation practices in Ontario French as a Second Language (FSL) programs\, grounded in key frameworks such as Growing Success\, The Ontario Curriculum\, and the Common European Framework of Reference for Languages (CEFR). Participants will examine the principles of assessment for\, as\, and of learning\, and engage with strategies for triangulating data through observations\, conversations\, and products. Through collaborative activities and discussions\, educators will reflect on how to differentiate assessment to meet diverse learner needs and ensure equity\, diversity\, and inclusion in FSL classrooms. Attendees will leave with practical tools and ideas to design meaningful\, inclusive\, and curriculum-aligned assessment practices. \nHosted by Latoya Labine.
URL:https://transformingfsl.ca/en/event/fsl-virtual-learning-series-2025-assessment-and-evaluation-in-french-programs/
ATTACH;FMTTYPE=image/jpeg:https://transformingfsl.ca/wp-content/uploads/2025/06/FSL-3-2025-Laytoya-Labine-1.jpeg
END:VEVENT
END:VCALENDAR